BEGIN:VCALENDAR
VERSION:2.0
PRODID:-//WiC - ECPv6.15.20//NONSGML v1.0//EN
CALSCALE:GREGORIAN
METHOD:PUBLISH
X-WR-CALNAME:WiC
X-ORIGINAL-URL:https://wic.ornl.gov
X-WR-CALDESC:Events for WiC
REFRESH-INTERVAL;VALUE=DURATION:PT1H
X-Robots-Tag:noindex
X-PUBLISHED-TTL:PT1H
BEGIN:VTIMEZONE
TZID:America/New_York
BEGIN:DAYLIGHT
TZOFFSETFROM:-0500
TZOFFSETTO:-0400
TZNAME:EDT
DTSTART:20200308T070000
END:DAYLIGHT
BEGIN:STANDARD
TZOFFSETFROM:-0400
TZOFFSETTO:-0500
TZNAME:EST
DTSTART:20201101T060000
END:STANDARD
BEGIN:DAYLIGHT
TZOFFSETFROM:-0500
TZOFFSETTO:-0400
TZNAME:EDT
DTSTART:20210314T070000
END:DAYLIGHT
BEGIN:STANDARD
TZOFFSETFROM:-0400
TZOFFSETTO:-0500
TZNAME:EST
DTSTART:20211107T060000
END:STANDARD
BEGIN:DAYLIGHT
TZOFFSETFROM:-0500
TZOFFSETTO:-0400
TZNAME:EDT
DTSTART:20220313T070000
END:DAYLIGHT
BEGIN:STANDARD
TZOFFSETFROM:-0400
TZOFFSETTO:-0500
TZNAME:EST
DTSTART:20221106T060000
END:STANDARD
BEGIN:DAYLIGHT
TZOFFSETFROM:-0500
TZOFFSETTO:-0400
TZNAME:EDT
DTSTART:20230312T070000
END:DAYLIGHT
BEGIN:STANDARD
TZOFFSETFROM:-0400
TZOFFSETTO:-0500
TZNAME:EST
DTSTART:20231105T060000
END:STANDARD
BEGIN:DAYLIGHT
TZOFFSETFROM:-0500
TZOFFSETTO:-0400
TZNAME:EDT
DTSTART:20240310T070000
END:DAYLIGHT
BEGIN:STANDARD
TZOFFSETFROM:-0400
TZOFFSETTO:-0500
TZNAME:EST
DTSTART:20241103T060000
END:STANDARD
BEGIN:DAYLIGHT
TZOFFSETFROM:-0500
TZOFFSETTO:-0400
TZNAME:EDT
DTSTART:20250309T070000
END:DAYLIGHT
BEGIN:STANDARD
TZOFFSETFROM:-0400
TZOFFSETTO:-0500
TZNAME:EST
DTSTART:20251102T060000
END:STANDARD
BEGIN:DAYLIGHT
TZOFFSETFROM:-0500
TZOFFSETTO:-0400
TZNAME:EDT
DTSTART:20260308T070000
END:DAYLIGHT
BEGIN:STANDARD
TZOFFSETFROM:-0400
TZOFFSETTO:-0500
TZNAME:EST
DTSTART:20261101T060000
END:STANDARD
END:VTIMEZONE
BEGIN:VEVENT
DTSTART;TZID=America/New_York:20250205T083000
DTEND;TZID=America/New_York:20250205T093000
DTSTAMP:20260422T091918
CREATED:20250116T154042Z
LAST-MODIFIED:20250116T213338Z
UID:777-1738744200-1738747800@wic.ornl.gov
SUMMARY:WiC Coffee Social 2025
DESCRIPTION:
URL:https://wic.ornl.gov/event/wic-coffee-social-2025/
CATEGORIES:Socials
END:VEVENT
BEGIN:VEVENT
DTSTART;TZID=America/New_York:20240423T083000
DTEND;TZID=America/New_York:20240423T093000
DTSTAMP:20260422T091918
CREATED:20240412T151447Z
LAST-MODIFIED:20240416T154520Z
UID:758-1713861000-1713864600@wic.ornl.gov
SUMMARY:WiC Coffee Social
DESCRIPTION:Hi all\, \nEveryone is welcome to join the Coffee Social organized by Women in Computing (WiC). Please see below for the details. And Yes – there will be muffins\, bagels\, and scones as well! 😊 \nWhen?: 8:30-9:30 am on Tuesday\, April 23 \nWhere?: Main Street BLDG 5700 \nContact: Pratishtha Shukla (shuklap@ornl.gov)
URL:https://wic.ornl.gov/event/wic-coffee-social/
ATTACH;FMTTYPE=image/png:https://wic.ornl.gov/wp-content/uploads/2024/04/Women-in-Computing-Coffee-Social.png
END:VEVENT
BEGIN:VEVENT
DTSTART;TZID=America/New_York:20230119T120000
DTEND;TZID=America/New_York:20230119T130000
DTSTAMP:20260422T091918
CREATED:20230109T172335Z
LAST-MODIFIED:20230109T172335Z
UID:741-1674129600-1674133200@wic.ornl.gov
SUMMARY:WIC and WINGS Watch Party
DESCRIPTION:Watch Party\, “Accelerating Your Career with Personal Branding” \nHeld via Teams and JICS Auditorium\, 5100 Room 128 \nWINGS and Women in Computing will be hosting a Virtual and In-Person watch party for the LinkedIn learning course “Accelerating Your Career with Personal Branding”  from 12-1pm\, Thursday\, January 19th on Teams and JICS (5100) Auditorium (Room 128). We are excited to have Jeremy Busby\, ALD of FFESD\, leading the discussion. \nThis LinkedIn Learning course is 38 minutes long and you can either watch it with us or watch it at your own time and join us for the discussion (~12:30-1pm). LinkedIn Learning is available to all ORNL employees\, so you can watch any course at any time.  See attached for LinkedIn Learning Instructions. \nThis event is open to anyone (regardless of gender\, position\, background) that may be interested. So please feel free to invite anyone you think may be interested.  We look forward to seeing you there.
URL:https://wic.ornl.gov/event/wic-and-wings-watch-party/
END:VEVENT
BEGIN:VEVENT
DTSTART;TZID=America/New_York:20220323T130000
DTEND;TZID=America/New_York:20220324T170000
DTSTAMP:20260422T091918
CREATED:20220201T170811Z
LAST-MODIFIED:20220201T170857Z
UID:730-1648040400-1648141200@wic.ornl.gov
SUMMARY:Long-Term Impact of COVID-19 on the Future Careers of Women in STEM: A Virtual Workshop
DESCRIPTION:Join the National Academies of Sciences\, Engineering\, and Medicine for a virtual workshop on March 23-24\, 2022 to explore the long-term impact of COVID-19 on the future careers of women in STEM. This two-day workshop will convene experts and leaders to inform a national research agenda that ensures academic and federal institutions are prepared to monitor and mitigate the long-term negative impacts of the pandemic on the STEM careers of women—especially women of color. This forward-looking workshop aims to help institutions promote diversity\, equity\, and inclusion and not exacerbate existing inequities within the STEM enterprise that were further amplified by the pandemic.\n \nThis workshop will expand upon the 2021 consensus study report\, The Impact of COVID-19 on the Careers of Women in Academic Sciences\, Engineering\, and Medicine. Key themes that workshop discussions may explore include: \n\nWork-Life Boundaries\, Gendered Divisions of Labor\, and the Family Caregiving Policy Landscape\nOnline/Virtual Dynamics in Research\, Teaching\, Mentorship\, Collaboration\, and Networking\nAcademic Leadership and Decision-Making\nAcademic Productivity and Institutional Responses\nMental Health and Well-being \n\nFor more information on the workshop\, please click here to visit the event webpage.
URL:https://wic.ornl.gov/event/long-term-impact-of-covid-19-on-the-future-careers-of-women-in-stem-a-virtual-workshop/
END:VEVENT
BEGIN:VEVENT
DTSTART;TZID=America/New_York:20220322T133000
DTEND;TZID=America/New_York:20220322T140000
DTSTAMP:20260422T091918
CREATED:20220201T165424Z
LAST-MODIFIED:20220201T165704Z
UID:723-1647955800-1647957600@wic.ornl.gov
SUMMARY:Women in Computing Virtual Coffee Meetup
DESCRIPTION:Join us for our bimonthly virtual coffee meetup via Microsoft Teams!
URL:https://wic.ornl.gov/event/women-in-computing-virtual-coffee-meetup-4/
LOCATION:Zoom
ORGANIZER;CN="Rachel McDowell":MAILTO:mcdowellrm@ornl.gov
END:VEVENT
BEGIN:VEVENT
DTSTART;TZID=America/New_York:20220308T133000
DTEND;TZID=America/New_York:20220308T140000
DTSTAMP:20260422T091918
CREATED:20220201T165416Z
LAST-MODIFIED:20220201T165650Z
UID:721-1646746200-1646748000@wic.ornl.gov
SUMMARY:Women in Computing Virtual Coffee Meetup
DESCRIPTION:Join us for our bimonthly virtual coffee meetup via Microsoft Teams!
URL:https://wic.ornl.gov/event/women-in-computing-virtual-coffee-meetup-3/
LOCATION:Zoom
ORGANIZER;CN="Rachel McDowell":MAILTO:mcdowellrm@ornl.gov
END:VEVENT
BEGIN:VEVENT
DTSTART;TZID=America/New_York:20220308T080000
DTEND;TZID=America/New_York:20220309T170000
DTSTAMP:20260422T091918
CREATED:20220201T170649Z
LAST-MODIFIED:20220201T170649Z
UID:728-1646726400-1646845200@wic.ornl.gov
SUMMARY:Women's Leadership Workshop
DESCRIPTION:
URL:https://wic.ornl.gov/event/womens-leadership-workshop/
END:VEVENT
BEGIN:VEVENT
DTSTART;TZID=America/New_York:20220222T013000
DTEND;TZID=America/New_York:20220222T140000
DTSTAMP:20260422T091918
CREATED:20220201T165410Z
LAST-MODIFIED:20220201T165637Z
UID:719-1645493400-1645538400@wic.ornl.gov
SUMMARY:Women in Computing Virtual Coffee Meetup
DESCRIPTION:Join us for our bimonthly virtual coffee meetup via Microsoft Teams!
URL:https://wic.ornl.gov/event/women-in-computing-virtual-coffee-meetup-2/
LOCATION:Zoom
ORGANIZER;CN="Rachel McDowell":MAILTO:mcdowellrm@ornl.gov
END:VEVENT
BEGIN:VEVENT
DTSTART;TZID=America/New_York:20220208T133000
DTEND;TZID=America/New_York:20220208T140000
DTSTAMP:20260422T091918
CREATED:20220201T165224Z
LAST-MODIFIED:20220201T165224Z
UID:716-1644327000-1644328800@wic.ornl.gov
SUMMARY:Women in Computing Virtual Coffee Meetup
DESCRIPTION:Join us for our bimonthly virtual coffee meetup via Microsoft Teams!
URL:https://wic.ornl.gov/event/women-in-computing-virtual-coffee-meetup/
LOCATION:Zoom
ORGANIZER;CN="Rachel McDowell":MAILTO:mcdowellrm@ornl.gov
END:VEVENT
BEGIN:VEVENT
DTSTART;TZID=America/New_York:20211019T110000
DTEND;TZID=America/New_York:20211019T113000
DTSTAMP:20260422T091918
CREATED:20211004T013049Z
LAST-MODIFIED:20211013T162734Z
UID:351-1634641200-1634643000@wic.ornl.gov
SUMMARY:Women in Computing Virtual Coffee Meetup
DESCRIPTION:Join us for our bimonthly virtual coffee meetup via Microsoft Teams every other Tuesday from 11 to 11:30am
URL:https://wic.ornl.gov/event/coffee/
END:VEVENT
END:VCALENDAR